BEGIN:VCALENDAR
VERSION:2.0
PRODID:-//Wir 5 im Wienerwald - ECPv6.15.20//NONSGML v1.0//EN
CALSCALE:GREGORIAN
METHOD:PUBLISH
X-WR-CALNAME:Wir 5 im Wienerwald
X-ORIGINAL-URL:https://wir-5-im-wienerwald.at
X-WR-CALDESC:Veranstaltungen für Wir 5 im Wienerwald
REFRESH-INTERVAL;VALUE=DURATION:PT1H
X-Robots-Tag:noindex
X-PUBLISHED-TTL:PT1H
BEGIN:VTIMEZONE
TZID:Europe/Vienna
BEGIN:DAYLIGHT
TZOFFSETFROM:+0100
TZOFFSETTO:+0200
TZNAME:CEST
DTSTART:20250330T010000
END:DAYLIGHT
BEGIN:STANDARD
TZOFFSETFROM:+0200
TZOFFSETTO:+0100
TZNAME:CET
DTSTART:20251026T010000
END:STANDARD
BEGIN:DAYLIGHT
TZOFFSETFROM:+0100
TZOFFSETTO:+0200
TZNAME:CEST
DTSTART:20260329T010000
END:DAYLIGHT
BEGIN:STANDARD
TZOFFSETFROM:+0200
TZOFFSETTO:+0100
TZNAME:CET
DTSTART:20261025T010000
END:STANDARD
BEGIN:DAYLIGHT
TZOFFSETFROM:+0100
TZOFFSETTO:+0200
TZNAME:CEST
DTSTART:20270328T010000
END:DAYLIGHT
BEGIN:STANDARD
TZOFFSETFROM:+0200
TZOFFSETTO:+0100
TZNAME:CET
DTSTART:20271031T010000
END:STANDARD
END:VTIMEZONE
BEGIN:VEVENT
DTSTART;TZID=Europe/Vienna:20260420T160000
DTEND;TZID=Europe/Vienna:20260420T180000
DTSTAMP:20260420T080648
CREATED:20260114T160947Z
LAST-MODIFIED:20260120T094423Z
UID:4661-1776700800-1776708000@wir-5-im-wienerwald.at
SUMMARY:Demenz-Schulung für Angehörige - EduKation demenz®
DESCRIPTION:Dieses Schulungsprogramm unterstützt Angehörige von Menschen mit Demenz im Umgang mit der Krankheit. Es geht um Verständnis und hilfreiche Wege der Kommunikation\, damit Angehörige den Alltag gut bewältigen können. Die Demenz-Schulung findet an 10 Terminen statt. \nInformation und Anmeldung: dp@beratung-lebenswert.at \nSchulungszyklus: 9. März – 18. Mai 2026 (außer 6. April)\njeweils montags\, 16 – 18 Uhr \nKosten: 199 Euro pro Person \nOrt: Menschengarten Mauerbach\, Hauptstraße 248\, 3001 Mauerbach
URL:https://wir-5-im-wienerwald.at/termin/demenz-schulung-fuer-angehoerige-edukation-demenz-4/
LOCATION:Menschengarten – Generationenzentrum\, Hauptstraße 248\, Mauerbach\, 3001
CATEGORIES:Demenz-Schulung für Angehörige,Demenzfreundliche Region
ATTACH;FMTTYPE=image/png:https://wir-5-im-wienerwald.at/wp-content/uploads/2023/12/Demenz-Schulung-fuer-Angehoerige.png
ORGANIZER;CN="Dana Puntigam":MAILTO:demenz@wir-5-im-wienerwald.at
END:VEVENT
END:VCALENDAR