BEGIN:VCALENDAR
VERSION:2.0
PRODID:-//Wir 5 im Wienerwald - ECPv6.15.20//NONSGML v1.0//EN
CALSCALE:GREGORIAN
METHOD:PUBLISH
X-ORIGINAL-URL:https://wir-5-im-wienerwald.at
X-WR-CALDESC:Veranstaltungen für Wir 5 im Wienerwald
REFRESH-INTERVAL;VALUE=DURATION:PT1H
X-Robots-Tag:noindex
X-PUBLISHED-TTL:PT1H
BEGIN:VTIMEZONE
TZID:Europe/Vienna
BEGIN:DAYLIGHT
TZOFFSETFROM:+0100
TZOFFSETTO:+0200
TZNAME:CEST
DTSTART:20220327T010000
END:DAYLIGHT
BEGIN:STANDARD
TZOFFSETFROM:+0200
TZOFFSETTO:+0100
TZNAME:CET
DTSTART:20221030T010000
END:STANDARD
BEGIN:DAYLIGHT
TZOFFSETFROM:+0100
TZOFFSETTO:+0200
TZNAME:CEST
DTSTART:20230326T010000
END:DAYLIGHT
BEGIN:STANDARD
TZOFFSETFROM:+0200
TZOFFSETTO:+0100
TZNAME:CET
DTSTART:20231029T010000
END:STANDARD
BEGIN:DAYLIGHT
TZOFFSETFROM:+0100
TZOFFSETTO:+0200
TZNAME:CEST
DTSTART:20240331T010000
END:DAYLIGHT
BEGIN:STANDARD
TZOFFSETFROM:+0200
TZOFFSETTO:+0100
TZNAME:CET
DTSTART:20241027T010000
END:STANDARD
END:VTIMEZONE
BEGIN:VEVENT
DTSTART;TZID=Europe/Vienna:20230707T153000
DTEND;TZID=Europe/Vienna:20230707T173000
DTSTAMP:20260426T064203
CREATED:20230213T151627Z
LAST-MODIFIED:20230213T152222Z
UID:1559-1688743800-1688751000@wir-5-im-wienerwald.at
SUMMARY:Bunte Nachmittage mit Kaffee & Kuchen
DESCRIPTION:GEDÄCHTNISPROBLEME?\nDEMENZ?\nWAS NUN?\nVergesslichkeit und Demenz stellen für viele Betroffene und deren Angehörige eine Herausforderung dar.Kommen Sie in unsere Runde\, Sie sind nicht allein!\n●  für Betroffene ●  Beratung für Angehörige ●  Betreut von Demenzexpertinnen Wir unterstützen sie mit: \n●  Informationen ●  Praktischen Tipps & Anregungen ●  Möglichkeit zum Austausch ●  Professioneller Begleitung ●  Aktivgruppe für Menschen mit Vergesslichkeit und Demenz \nWir bitten um vorherige Anmeldung unter demenz@wir-5-im-wienerwald.at oder 0676/848116500\n\nHaben Sie Lust dieses Projekt zu unterstützen und mitzutun?Melden Sie sich bitte bei ihrer jeweiligen Gemeinde oder über unser Kontaktformular.
URL:https://wir-5-im-wienerwald.at/termin/bunte-nachmittage-mit-kaffee-kuchen-copy-4/
LOCATION:Volkshaus Purkersdorf\, Wiener Straße 2\, Purkersdorf\, 3002
ATTACH;FMTTYPE=image/png:https://wir-5-im-wienerwald.at/wp-content/uploads/2023/02/Bildschirmfoto-2023-02-08-um-13.00.30.png
END:VEVENT
BEGIN:VEVENT
DTSTART;TZID=Europe/Vienna:20230720T170000
DTEND;TZID=Europe/Vienna:20230720T190000
DTSTAMP:20260426T064203
CREATED:20230707T111108Z
LAST-MODIFIED:20230707T111108Z
UID:3502-1689872400-1689879600@wir-5-im-wienerwald.at
SUMMARY:Pflegende Angehörigen Stammtisch Purkersdorf
DESCRIPTION:Ziel des Stammtisches ist der Austausch pflegender Angehöriger untereinander und die Unterstützung mit Informationen unter der qualifizierten Leitung von Mag.a Alder (diplomierte Gesundheits- und Krankenpflegerin mit Zusatzausbildung in der Lebens- und Sozialberatung).\nWir bitten um Anmeldung bei Andrea Alder! \nPer Mail unter andrea.alder@gmx.at oder telefonisch unter 0650 9904882.
URL:https://wir-5-im-wienerwald.at/termin/pflegende-angehoerigen-stammtisch-purkersdorf-3/
LOCATION:Trauungssaal im Rathaus\, Hauptlatz 1\, Purkersdorf\, 3002\, Austria
ORGANIZER;CN="Frau Mag.a Andrea Alder%2C MBA":MAILTO:andrea.alder@gmx.at
END:VEVENT
BEGIN:VEVENT
DTSTART;TZID=Europe/Vienna:20230727T183000
DTEND;TZID=Europe/Vienna:20230727T200000
DTSTAMP:20260426T064203
CREATED:20230707T114510Z
LAST-MODIFIED:20230707T114740Z
UID:3515-1690482600-1690488000@wir-5-im-wienerwald.at
SUMMARY:Pflegende Angehörigen Stammtisch Pressbaum
DESCRIPTION:Wenn Vergesslichkeit zum Problem wird…\nWir ermöglichen An- und Zugehörigen von Menschen mit Demenz sich kostenlos auszutauschen\, Kraft zu tanken und Fragen zu stellen.\nWir unterstützen einander! Wir tauschen unsere Erfahrungen aus! Wir erweitern unser Wissen! \nAuf Ihr Kommen freut sich Lea Hofer-Wecer DGKP\, Demenzexpertin\nUm telefonische Anmeldung wird gebeten unter 0676/4921600
URL:https://wir-5-im-wienerwald.at/termin/pflegende-angehoerigen-stammtisch-pressbaum/
LOCATION:Café Pension Parzer\, Hauptstraße 96\, Pressbaum\, 3021\, Austria
END:VEVENT
END:VCALENDAR