BEGIN:VCALENDAR
VERSION:2.0
PRODID:-//Wir 5 im Wienerwald - ECPv6.15.20//NONSGML v1.0//EN
CALSCALE:GREGORIAN
METHOD:PUBLISH
X-WR-CALNAME:Wir 5 im Wienerwald
X-ORIGINAL-URL:https://wir-5-im-wienerwald.at
X-WR-CALDESC:Veranstaltungen für Wir 5 im Wienerwald
REFRESH-INTERVAL;VALUE=DURATION:PT1H
X-Robots-Tag:noindex
X-PUBLISHED-TTL:PT1H
BEGIN:VTIMEZONE
TZID:Europe/Vienna
BEGIN:DAYLIGHT
TZOFFSETFROM:+0100
TZOFFSETTO:+0200
TZNAME:CEST
DTSTART:20220327T010000
END:DAYLIGHT
BEGIN:STANDARD
TZOFFSETFROM:+0200
TZOFFSETTO:+0100
TZNAME:CET
DTSTART:20221030T010000
END:STANDARD
BEGIN:DAYLIGHT
TZOFFSETFROM:+0100
TZOFFSETTO:+0200
TZNAME:CEST
DTSTART:20230326T010000
END:DAYLIGHT
BEGIN:STANDARD
TZOFFSETFROM:+0200
TZOFFSETTO:+0100
TZNAME:CET
DTSTART:20231029T010000
END:STANDARD
BEGIN:DAYLIGHT
TZOFFSETFROM:+0100
TZOFFSETTO:+0200
TZNAME:CEST
DTSTART:20240331T010000
END:DAYLIGHT
BEGIN:STANDARD
TZOFFSETFROM:+0200
TZOFFSETTO:+0100
TZNAME:CET
DTSTART:20241027T010000
END:STANDARD
END:VTIMEZONE
BEGIN:VEVENT
DTSTART;TZID=Europe/Vienna:20231003T140000
DTEND;TZID=Europe/Vienna:20231003T170000
DTSTAMP:20260426T015717
CREATED:20230707T115641Z
LAST-MODIFIED:20230707T115641Z
UID:3530-1696341600-1696352400@wir-5-im-wienerwald.at
SUMMARY:Bunter Nachmittag Pressbaum
DESCRIPTION:Bunter Nachmittag für Menschen\nderen Vergesslichkeit ein Problem ist\nPflegende Angehörige können in diesen Stunden entlastet werden Das Angebot richtet sich nach dem Bedürfnissen\, Neigungen und Möglichkeiten der Gäste. \nGeplant ist natürlich gemeinsames Kaffeetrinken\, Bewegungsübungen\, Gedächtnistraining\, Spiele\, singen und vieles mehr. \nEin Team von einer Fachkraft und ehrenamtlichen Helfer*innen betreut die Gäste liebevoll und kompetent \nAuf Ihr Kommen freuen sich Liselotte Wolf\, Lea Hofer-Wecer (DGKP\, Demenzexpertin) und das Team\nUm telefonische Anmeldung wird gebeten unter 0676/4921600 (Hofer-Wecer) oder 0664 / 2606004 (Wolf)
URL:https://wir-5-im-wienerwald.at/termin/bunter-nachmittag-pressbaum-2/
LOCATION:Café Pension Parzer\, Hauptstraße 96\, Pressbaum\, 3021\, Austria
END:VEVENT
BEGIN:VEVENT
DTSTART;TZID=Europe/Vienna:20231017T183000
DTEND;TZID=Europe/Vienna:20231017T200000
DTSTAMP:20260426T015717
CREATED:20230816T140028Z
LAST-MODIFIED:20230816T140028Z
UID:3570-1697567400-1697572800@wir-5-im-wienerwald.at
SUMMARY:Stammtisch für pflegende Angehörige
DESCRIPTION:Sie sind nicht allein!\nDer STAMMTISCH für pflegende Angehörige bietet die Möglichkeit für Austausch und Beratung. \n\n-) betreut von Coachin Andrea Berger-Leitner \n-) Teilnahme ist kostenlos!\n-) Bitte um vorherige Anmeldung (telefonisch oder per e-Mail!)
URL:https://wir-5-im-wienerwald.at/termin/stammtisch-fuer-pflegende-angehoerige-5/
LOCATION:Gasthaus Stockinger\, Hauptstraße 46\, Tullnerbach\, 3013
ATTACH;FMTTYPE=image/jpeg:https://wir-5-im-wienerwald.at/wp-content/uploads/2023/03/20230117_201451.jpg
END:VEVENT
BEGIN:VEVENT
DTSTART;TZID=Europe/Vienna:20231019T170000
DTEND;TZID=Europe/Vienna:20231019T190000
DTSTAMP:20260426T015717
CREATED:20230707T111343Z
LAST-MODIFIED:20230707T111352Z
UID:3508-1697734800-1697742000@wir-5-im-wienerwald.at
SUMMARY:Pflegende Angehörigen Stammtisch Purkersdorf
DESCRIPTION:Ziel des Stammtisches ist der Austausch pflegender Angehöriger untereinander und die Unterstützung mit Informationen unter der qualifizierten Leitung von Mag.a Alder (diplomierte Gesundheits- und Krankenpflegerin mit Zusatzausbildung in der Lebens- und Sozialberatung).\nWir bitten um Anmeldung bei Andrea Alder! \nPer Mail unter andrea.alder@gmx.at oder telefonisch unter 0650 9904882.
URL:https://wir-5-im-wienerwald.at/termin/pflegende-angehoerigen-stammtisch-purkersdorf-copy/
LOCATION:Trauungssaal im Rathaus\, Hauptlatz 1\, Purkersdorf\, 3002\, Austria
ORGANIZER;CN="Frau Mag.a Andrea Alder%2C MBA":MAILTO:andrea.alder@gmx.at
END:VEVENT
BEGIN:VEVENT
DTSTART;TZID=Europe/Vienna:20231019T183000
DTEND;TZID=Europe/Vienna:20231019T200000
DTSTAMP:20260426T015717
CREATED:20230707T114810Z
LAST-MODIFIED:20230707T114810Z
UID:3521-1697740200-1697745600@wir-5-im-wienerwald.at
SUMMARY:Pflegende Angehörigen Stammtisch Pressbaum
DESCRIPTION:Wenn Vergesslichkeit zum Problem wird…\nWir ermöglichen An- und Zugehörigen von Menschen mit Demenz sich kostenlos auszutauschen\, Kraft zu tanken und Fragen zu stellen.\nWir unterstützen einander! Wir tauschen unsere Erfahrungen aus! Wir erweitern unser Wissen! \nAuf Ihr Kommen freut sich Lea Hofer-Wecer DGKP\, Demenzexpertin\nUm telefonische Anmeldung wird gebeten unter 0676/4921600
URL:https://wir-5-im-wienerwald.at/termin/pflegende-angehoerigen-stammtisch-pressbaum-3/
LOCATION:Café Pension Parzer\, Hauptstraße 96\, Pressbaum\, 3021\, Austria
END:VEVENT
END:VCALENDAR