BEGIN:VCALENDAR
VERSION:2.0
PRODID:-//Wir 5 im Wienerwald - ECPv6.15.20//NONSGML v1.0//EN
CALSCALE:GREGORIAN
METHOD:PUBLISH
X-WR-CALNAME:Wir 5 im Wienerwald
X-ORIGINAL-URL:https://wir-5-im-wienerwald.at
X-WR-CALDESC:Veranstaltungen für Wir 5 im Wienerwald
REFRESH-INTERVAL;VALUE=DURATION:PT1H
X-Robots-Tag:noindex
X-PUBLISHED-TTL:PT1H
BEGIN:VTIMEZONE
TZID:Europe/Vienna
BEGIN:DAYLIGHT
TZOFFSETFROM:+0100
TZOFFSETTO:+0200
TZNAME:CEST
DTSTART:20220327T010000
END:DAYLIGHT
BEGIN:STANDARD
TZOFFSETFROM:+0200
TZOFFSETTO:+0100
TZNAME:CET
DTSTART:20221030T010000
END:STANDARD
BEGIN:DAYLIGHT
TZOFFSETFROM:+0100
TZOFFSETTO:+0200
TZNAME:CEST
DTSTART:20230326T010000
END:DAYLIGHT
BEGIN:STANDARD
TZOFFSETFROM:+0200
TZOFFSETTO:+0100
TZNAME:CET
DTSTART:20231029T010000
END:STANDARD
BEGIN:DAYLIGHT
TZOFFSETFROM:+0100
TZOFFSETTO:+0200
TZNAME:CEST
DTSTART:20240331T010000
END:DAYLIGHT
BEGIN:STANDARD
TZOFFSETFROM:+0200
TZOFFSETTO:+0100
TZNAME:CET
DTSTART:20241027T010000
END:STANDARD
END:VTIMEZONE
BEGIN:VEVENT
DTSTART;TZID=Europe/Vienna:20231205T140000
DTEND;TZID=Europe/Vienna:20231205T170000
DTSTAMP:20260425T224609
CREATED:20230707T115827Z
LAST-MODIFIED:20240409T073806Z
UID:3536-1701784800-1701795600@wir-5-im-wienerwald.at
SUMMARY:Bunter Nachmittag Pressbaum
DESCRIPTION:Bunter Nachmittag für Menschen\nderen Vergesslichkeit ein Problem ist\nPflegende Angehörige können in diesen Stunden entlastet werden Das Angebot richtet sich nach dem Bedürfnissen\, Neigungen und Möglichkeiten der Gäste. \nGeplant ist natürlich gemeinsames Kaffeetrinken\, Bewegungsübungen\, Gedächtnistraining\, Spiele\, singen und vieles mehr. \nEin Team von einer Fachkraft und ehrenamtlichen Helfer*innen betreut die Gäste liebevoll und kompetent \nAuf Ihr Kommen freuen sich Liselotte Wolf\, Lea Hofer-Wecer (DGKP\, Demenzexpertin) und das Team\nUm telefonische Anmeldung wird gebeten unter 0676/4921600 (Hofer-Wecer) oder 0664 / 2606004 (Wolf)
URL:https://wir-5-im-wienerwald.at/termin/bunter-nachmittag-pressbaum-4/
LOCATION:Café Pension Parzer\, Hauptstraße 96\, Pressbaum\, 3021\, Austria
CATEGORIES:Stammtisch für pflegende Angehörige
END:VEVENT
BEGIN:VEVENT
DTSTART;TZID=Europe/Vienna:20231214T170000
DTEND;TZID=Europe/Vienna:20231214T190000
DTSTAMP:20260425T224609
CREATED:20230707T112033Z
LAST-MODIFIED:20230707T113906Z
UID:3513-1702573200-1702580400@wir-5-im-wienerwald.at
SUMMARY:Pflegende Angehörigen Stammtisch Purkersdorf
DESCRIPTION:Ziel des Stammtisches ist der Austausch pflegender Angehöriger untereinander und die Unterstützung mit Informationen unter der qualifizierten Leitung von Mag.a Alder (diplomierte Gesundheits- und Krankenpflegerin mit Zusatzausbildung in der Lebens- und Sozialberatung).\nWir bitten um Anmeldung bei Andrea Alder! \nPer Mail unter andrea.alder@gmx.at oder telefonisch unter 0650 9904882.
URL:https://wir-5-im-wienerwald.at/termin/pflegende-angehoerigen-stammtisch-purkersdorf-7/
LOCATION:Trauungssaal im Rathaus\, Hauptlatz 1\, Purkersdorf\, 3002\, Austria
ORGANIZER;CN="Frau Mag.a Andrea Alder%2C MBA":MAILTO:andrea.alder@gmx.at
END:VEVENT
BEGIN:VEVENT
DTSTART;TZID=Europe/Vienna:20231214T183000
DTEND;TZID=Europe/Vienna:20231214T200000
DTSTAMP:20260425T224609
CREATED:20230707T114911Z
LAST-MODIFIED:20240409T073800Z
UID:3525-1702578600-1702584000@wir-5-im-wienerwald.at
SUMMARY:Pflegende Angehörigen Stammtisch Pressbaum
DESCRIPTION:Wenn Vergesslichkeit zum Problem wird…\nWir ermöglichen An- und Zugehörigen von Menschen mit Demenz sich kostenlos auszutauschen\, Kraft zu tanken und Fragen zu stellen.\nWir unterstützen einander! Wir tauschen unsere Erfahrungen aus! Wir erweitern unser Wissen! \nAuf Ihr Kommen freut sich Lea Hofer-Wecer DGKP\, Demenzexpertin\nUm telefonische Anmeldung wird gebeten unter 0676/4921600
URL:https://wir-5-im-wienerwald.at/termin/pflegende-angehoerigen-stammtisch-pressbaum-5/
LOCATION:Café Pension Parzer\, Hauptstraße 96\, Pressbaum\, 3021\, Austria
CATEGORIES:Stammtisch für pflegende Angehörige
END:VEVENT
BEGIN:VEVENT
DTSTART;TZID=Europe/Vienna:20231219T183000
DTEND;TZID=Europe/Vienna:20231219T200000
DTSTAMP:20260425T224609
CREATED:20230816T140202Z
LAST-MODIFIED:20240409T073729Z
UID:3574-1703010600-1703016000@wir-5-im-wienerwald.at
SUMMARY:Stammtisch für pflegende Angehörige
DESCRIPTION:Sie sind nicht allein!\nDer STAMMTISCH für pflegende Angehörige bietet die Möglichkeit für Austausch und Beratung. \n\n-) betreut von Coachin Andrea Berger-Leitner \n-) Teilnahme ist kostenlos!\n-) Bitte um vorherige Anmeldung (telefonisch oder per e-Mail!)
URL:https://wir-5-im-wienerwald.at/termin/stammtisch-fuer-pflegende-angehoerige-7/
LOCATION:Gasthaus Stockinger\, Hauptstraße 46\, Tullnerbach\, 3013
CATEGORIES:Stammtisch für pflegende Angehörige
ATTACH;FMTTYPE=image/jpeg:https://wir-5-im-wienerwald.at/wp-content/uploads/2023/03/20230117_201451.jpg
END:VEVENT
END:VCALENDAR