BEGIN:VCALENDAR
VERSION:2.0
PRODID:-//Wir 5 im Wienerwald - ECPv6.15.20//NONSGML v1.0//EN
CALSCALE:GREGORIAN
METHOD:PUBLISH
X-ORIGINAL-URL:https://wir-5-im-wienerwald.at
X-WR-CALDESC:Veranstaltungen für Wir 5 im Wienerwald
REFRESH-INTERVAL;VALUE=DURATION:PT1H
X-Robots-Tag:noindex
X-PUBLISHED-TTL:PT1H
BEGIN:VTIMEZONE
TZID:Europe/Vienna
BEGIN:DAYLIGHT
TZOFFSETFROM:+0100
TZOFFSETTO:+0200
TZNAME:CEST
DTSTART:20230326T010000
END:DAYLIGHT
BEGIN:STANDARD
TZOFFSETFROM:+0200
TZOFFSETTO:+0100
TZNAME:CET
DTSTART:20231029T010000
END:STANDARD
BEGIN:DAYLIGHT
TZOFFSETFROM:+0100
TZOFFSETTO:+0200
TZNAME:CEST
DTSTART:20240331T010000
END:DAYLIGHT
BEGIN:STANDARD
TZOFFSETFROM:+0200
TZOFFSETTO:+0100
TZNAME:CET
DTSTART:20241027T010000
END:STANDARD
BEGIN:DAYLIGHT
TZOFFSETFROM:+0100
TZOFFSETTO:+0200
TZNAME:CEST
DTSTART:20250330T010000
END:DAYLIGHT
BEGIN:STANDARD
TZOFFSETFROM:+0200
TZOFFSETTO:+0100
TZNAME:CET
DTSTART:20251026T010000
END:STANDARD
END:VTIMEZONE
BEGIN:VEVENT
DTSTART;TZID=Europe/Vienna:20240116T183000
DTEND;TZID=Europe/Vienna:20240116T200000
DTSTAMP:20260425T210212
CREATED:20231211T104620Z
LAST-MODIFIED:20240409T073724Z
UID:3632-1705429800-1705435200@wir-5-im-wienerwald.at
SUMMARY:Stammtisch für pflegende Angehörige & Rechtsberatung mit Anwalt Dr. Andreas Reim
DESCRIPTION:Sie sind nicht allein!\nDer STAMMTISCH für pflegende Angehörige bietet die Möglichkeit für Austausch und Beratung. \nDieses Mal wird Dr. Andreas Reim mit dabei sein und gemeinsam mit seiner Kollegin Mag.Sandra Barton Auskunft & Beratung zu rechtlichen Themen geben! \n\n-) betreut von Coachin Andrea Berger-Leitner \n-) Teilnahme ist kostenlos!\n-) Bitte um vorherige Anmeldung (telefonisch oder per e-Mail!)
URL:https://wir-5-im-wienerwald.at/termin/stammtisch-fuer-pflegende-angehoerige-8/
LOCATION:Gemeindeamt Tullnerbach\, Hauptstraße 47\, Tullnerbach-Lawies\, Niederösterreich\, 3013\, Austria
CATEGORIES:Stammtisch für pflegende Angehörige
ATTACH;FMTTYPE=image/jpeg:https://wir-5-im-wienerwald.at/wp-content/uploads/2023/03/20230117_201451.jpg
ORGANIZER;CN="Monika Hartl - Regionale Gesundheitskoordinatorin":MAILTO:regionalegesundheit@gmail.com
END:VEVENT
BEGIN:VEVENT
DTSTART;TZID=Europe/Vienna:20240126T153000
DTEND;TZID=Europe/Vienna:20240126T173000
DTSTAMP:20260425T210212
CREATED:20231219T081552Z
LAST-MODIFIED:20240409T073720Z
UID:3716-1706283000-1706290200@wir-5-im-wienerwald.at
SUMMARY:Bunte Nachmittage mit Kaffee & Kuchen
DESCRIPTION:GEDÄCHTNISPROBLEME?\nDEMENZ?\nWAS NUN?\nVergesslichkeit und Demenz stellen für viele Betroffene und deren Angehörige eine Herausforderung dar.Kommen Sie in unsere Runde\, Sie sind nicht allein!\n●  für Betroffene ●  Beratung für Angehörige ●  Betreut von Demenzexpertinnen Wir unterstützen sie mit: \n●  Informationen ●  Praktischen Tipps & Anregungen ●  Möglichkeit zum Austausch ●  Professioneller Begleitung ●  Aktivgruppe für Menschen mit Vergesslichkeit und Demenz \nWir bitten um vorherige Anmeldung unter demenz@wir-5-im-wienerwald.at oder 0676/848116500\n\nHaben Sie Lust dieses Projekt zu unterstützen und mitzutun?Melden Sie sich bitte bei ihrer jeweiligen Gemeinde oder über unser Kontaktformular.
URL:https://wir-5-im-wienerwald.at/termin/bunte-nachmittage-mit-kaffee-kuchen-7/
LOCATION:Kloster St.Barbara\, Bachgasse 1-2\, Gablitz\, 3003\, Austria
CATEGORIES:Bunter Nachmittag
ATTACH;FMTTYPE=image/png:https://wir-5-im-wienerwald.at/wp-content/uploads/2023/07/BuNaHeader.png
ORGANIZER;CN="Regina Pessenbacher-Orasch":MAILTO:demenz@wir-5-im-wienerwald.at
END:VEVENT
END:VCALENDAR