BEGIN:VCALENDAR
VERSION:2.0
PRODID:-//Wir 5 im Wienerwald - ECPv6.15.20//NONSGML v1.0//EN
CALSCALE:GREGORIAN
METHOD:PUBLISH
X-WR-CALNAME:Wir 5 im Wienerwald
X-ORIGINAL-URL:https://wir-5-im-wienerwald.at
X-WR-CALDESC:Veranstaltungen für Wir 5 im Wienerwald
REFRESH-INTERVAL;VALUE=DURATION:PT1H
X-Robots-Tag:noindex
X-PUBLISHED-TTL:PT1H
BEGIN:VTIMEZONE
TZID:Europe/Vienna
BEGIN:DAYLIGHT
TZOFFSETFROM:+0100
TZOFFSETTO:+0200
TZNAME:CEST
DTSTART:20230326T010000
END:DAYLIGHT
BEGIN:STANDARD
TZOFFSETFROM:+0200
TZOFFSETTO:+0100
TZNAME:CET
DTSTART:20231029T010000
END:STANDARD
BEGIN:DAYLIGHT
TZOFFSETFROM:+0100
TZOFFSETTO:+0200
TZNAME:CEST
DTSTART:20240331T010000
END:DAYLIGHT
BEGIN:STANDARD
TZOFFSETFROM:+0200
TZOFFSETTO:+0100
TZNAME:CET
DTSTART:20241027T010000
END:STANDARD
BEGIN:DAYLIGHT
TZOFFSETFROM:+0100
TZOFFSETTO:+0200
TZNAME:CEST
DTSTART:20250330T010000
END:DAYLIGHT
BEGIN:STANDARD
TZOFFSETFROM:+0200
TZOFFSETTO:+0100
TZNAME:CET
DTSTART:20251026T010000
END:STANDARD
END:VTIMEZONE
BEGIN:VEVENT
DTSTART;TZID=Europe/Vienna:20240413T110000
DTEND;TZID=Europe/Vienna:20240413T180000
DTSTAMP:20260425T155345
CREATED:20240321T154736Z
LAST-MODIFIED:20240321T154736Z
UID:3890-1713006000-1713031200@wir-5-im-wienerwald.at
SUMMARY:Gesundheitstag Purkersdorf
DESCRIPTION:Entdecken Sie den Gesundheitstag Purkersdorf am 13. April 2024!\nTauchen Sie ein in eine Welt voller Wohlbefinden und Inspiration beim Gesundheitstag Purkersdorf am 13. April 2024. Erleben Sie eine Vielfalt an Aussteller*innen aus allen Bereichen der Gesundheit\, die Ihnen innovative Produkte und Dienstleistungen präsentieren. Von Fitness über Ernährung bis hin zu mentaler Gesundheit – hier finden Sie alles unter einem Dach. \nFür unsere kleinen Besucher steht eine liebevoll gestaltete Kinderbastelstation bereit\, um spielerisch das Bewusstsein für Gesundheit zu fördern. Genießen Sie zudem spannende Vorträge von Expert*innen\, die Ihnen wertvolle Einblicke in aktuelle Gesundheitsthemen geben. \nGönnen Sie sich eine Pause mit unserem gesunden Catering\, das nicht nur köstlich\, sondern auch nährstoffreich ist. Und wenn Sie Ihre gute Tat des Tages vollbringen möchten\, beteiligen Sie sich an unserer Blutspendeaktion – jeder Tropfen zählt! \nSeien Sie dabei\, lassen Sie sich inspirieren und erfahren Sie\, wie Sie Ihr Wohlbefinden steigern können. Der Gesundheitstag Purkersdorf 2024 freut sich darauf\, Sie und Ihre Familie willkommen zu heißen!
URL:https://wir-5-im-wienerwald.at/termin/gesundheitstag-purkersdorf/
LOCATION:Stadtsaal Purkersdorf\, Bachgasse 10\, Purkersdorf\, Niederösterreich\, 3002\, Austria
END:VEVENT
BEGIN:VEVENT
DTSTART;TZID=Europe/Vienna:20240416T183000
DTEND;TZID=Europe/Vienna:20240416T200000
DTSTAMP:20260425T155345
CREATED:20231220T121059Z
LAST-MODIFIED:20240409T073646Z
UID:3749-1713292200-1713297600@wir-5-im-wienerwald.at
SUMMARY:Stammtisch für pflegende Angehörige
DESCRIPTION:Sie sind nicht allein!\nDer STAMMTISCH für pflegende Angehörige bietet die Möglichkeit für Austausch und Beratung. \n\n-) betreut von Coachin Andrea Berger-Leitner \n-) Teilnahme ist kostenlos!\n-) Bitte um vorherige Anmeldung (telefonisch oder per e-Mail!)
URL:https://wir-5-im-wienerwald.at/termin/stammtisch-fuer-pflegende-angehoerige-11/
LOCATION:Gasthaus Stockinger\, Hauptstraße 46\, Tullnerbach\, 3013
CATEGORIES:Stammtisch für pflegende Angehörige
ATTACH;FMTTYPE=image/jpeg:https://wir-5-im-wienerwald.at/wp-content/uploads/2023/03/20230117_190606.jpg
ORGANIZER;CN="Monika Hartl - Regionale Gesundheitskoordinatorin":MAILTO:regionalegesundheit@gmail.com
END:VEVENT
BEGIN:VEVENT
DTSTART;TZID=Europe/Vienna:20240417T090000
DTEND;TZID=Europe/Vienna:20240417T140000
DTSTAMP:20260425T155345
CREATED:20240313T110129Z
LAST-MODIFIED:20240313T110129Z
UID:3884-1713344400-1713362400@wir-5-im-wienerwald.at
SUMMARY:Miteinander Unterwegs!
DESCRIPTION:Gemeinsam fahren wir in den Naturpark Sparbach und bekommen eine Führung von DI Susanne Käfer. \nAbfahrt ist um 09:00 Uhr aus der Kleirnegion – der BusTransfer wird von der Demenzfreundlichen Region organisiert. \nNach der Führung gibt es eine Möglichkeit zur Stärkung und Jause und um 13 Uhr geht es mit dem Bus wieder zurück. \n  \nBitte um vorherige Anmeldung – die Plätze sind limitiert.\nDie Teilnahme sowie Bustransfer sind kostenlos!
URL:https://wir-5-im-wienerwald.at/termin/miteinander-unterwegs/
ORGANIZER;CN="Demenzfreundliche Region Wir-5-im-Wienerwald":MAILTO:demenz@wir-5-im-wienerwald.at
END:VEVENT
BEGIN:VEVENT
DTSTART;TZID=Europe/Vienna:20240424T173000
DTEND;TZID=Europe/Vienna:20240424T200000
DTSTAMP:20260425T155345
CREATED:20240209T131207Z
LAST-MODIFIED:20240228T144321Z
UID:3810-1713979800-1713988800@wir-5-im-wienerwald.at
SUMMARY:Netzwerktreffen Demenzfreundliche Region
DESCRIPTION:Spannende Inputs\, Zeit zum Vernetzen und viel mehr erwarten Sie wieder bei unserem nächsten Netzwerktreffen.\nDiesmal haben wir die akad. Demenzexpertin Monika Frank von Alzheimer Austria zu Gast. Bei ihrem Seminar “Kommunikation und Umgang mit verändertem Verhalten von Menschen mit Demenz” zeigt sie Wege zur Aufrechterhaltung der Kommunikation aufgezeigt. Dadurch können die Stärken von Demenzbetroffenen Familienmitgliedern genutzt und weiter gefördert werden. \n“Die Begleitung von Menschen mit Demenz ist eine sehr verantwortungsvolle\, meist jahrelange Tätigkeit und stellt viele Angehörigen immer wieder vor neue Herausforderungen. Kommunikationsprobleme führen sowohl für demenziell erkrankte Menschen wie für deren Angehörige häufig zu Unverständnis\, Frustration und nervlicher Belastung.” \nso Monika Frank über den Hintergrund ihres Seminars. \nAußerdem erwarten Sie wieder ausreichend Zeit zum Vernetzen und Austauschen sowie ein geselliger Ausklang bei Snacks und Getränken.\nWir freuen uns auf Ihr Kommen! \nUm vorherige Anmeldung wird gebeten unter…\n….demenz@wir-5-im-wienerwald.at oder 0676/6198482
URL:https://wir-5-im-wienerwald.at/termin/netzwerktreffen-demenzfreundliche-region/
LOCATION:Musikschule Mauerbach\, Hauptstraße 250\, Mauerbach\, 3001\, Austria
ATTACH;FMTTYPE=image/png:https://wir-5-im-wienerwald.at/wp-content/uploads/2023/05/Screenshot-Einladung.png
ORGANIZER;CN="Demenzfreundliche Region Wir-5-im-Wienerwald":MAILTO:demenz@wir-5-im-wienerwald.at
END:VEVENT
BEGIN:VEVENT
DTSTART;TZID=Europe/Vienna:20240426T153000
DTEND;TZID=Europe/Vienna:20240426T173000
DTSTAMP:20260425T155345
CREATED:20231219T082813Z
LAST-MODIFIED:20231219T082813Z
UID:3730-1714145400-1714152600@wir-5-im-wienerwald.at
SUMMARY:Bunte Nachmittage mit Kaffee & Kuchen
DESCRIPTION:GEDÄCHTNISPROBLEME?\nDEMENZ?\nWAS NUN?\nVergesslichkeit und Demenz stellen für viele Betroffene und deren Angehörige eine Herausforderung dar.Kommen Sie in unsere Runde\, Sie sind nicht allein!\n●  für Betroffene ●  Beratung für Angehörige ●  Betreut von Demenzexpertinnen Wir unterstützen sie mit: \n●  Informationen ●  Praktischen Tipps & Anregungen ●  Möglichkeit zum Austausch ●  Professioneller Begleitung ●  Aktivgruppe für Menschen mit Vergesslichkeit und Demenz \nWir bitten um vorherige Anmeldung unter demenz@wir-5-im-wienerwald.at oder 0676/848116500\n\nHaben Sie Lust dieses Projekt zu unterstützen und mitzutun?Melden Sie sich bitte bei ihrer jeweiligen Gemeinde oder über unser Kontaktformular.
URL:https://wir-5-im-wienerwald.at/termin/bunte-nachmittage-mit-kaffee-kuchen-13/
LOCATION:Pfarrsaal Wolfsgraben\, Hauptstraße 27\, Wolfsgraben\, 3012\, Austria
CATEGORIES:Bunter Nachmittag
ATTACH;FMTTYPE=image/png:https://wir-5-im-wienerwald.at/wp-content/uploads/2023/07/BuNaHeader.png
ORGANIZER;CN="Regina Pessenbacher-Orasch":MAILTO:demenz@wir-5-im-wienerwald.at
END:VEVENT
END:VCALENDAR