BEGIN:VCALENDAR
VERSION:2.0
PRODID:-//Wir 5 im Wienerwald - ECPv6.15.20//NONSGML v1.0//EN
CALSCALE:GREGORIAN
METHOD:PUBLISH
X-ORIGINAL-URL:https://wir-5-im-wienerwald.at
X-WR-CALDESC:Veranstaltungen für Wir 5 im Wienerwald
REFRESH-INTERVAL;VALUE=DURATION:PT1H
X-Robots-Tag:noindex
X-PUBLISHED-TTL:PT1H
BEGIN:VTIMEZONE
TZID:Europe/Vienna
BEGIN:DAYLIGHT
TZOFFSETFROM:+0100
TZOFFSETTO:+0200
TZNAME:CEST
DTSTART:20230326T010000
END:DAYLIGHT
BEGIN:STANDARD
TZOFFSETFROM:+0200
TZOFFSETTO:+0100
TZNAME:CET
DTSTART:20231029T010000
END:STANDARD
BEGIN:DAYLIGHT
TZOFFSETFROM:+0100
TZOFFSETTO:+0200
TZNAME:CEST
DTSTART:20240331T010000
END:DAYLIGHT
BEGIN:STANDARD
TZOFFSETFROM:+0200
TZOFFSETTO:+0100
TZNAME:CET
DTSTART:20241027T010000
END:STANDARD
BEGIN:DAYLIGHT
TZOFFSETFROM:+0100
TZOFFSETTO:+0200
TZNAME:CEST
DTSTART:20250330T010000
END:DAYLIGHT
BEGIN:STANDARD
TZOFFSETFROM:+0200
TZOFFSETTO:+0100
TZNAME:CET
DTSTART:20251026T010000
END:STANDARD
END:VTIMEZONE
BEGIN:VEVENT
DTSTART;TZID=Europe/Vienna:20240507T090000
DTEND;TZID=Europe/Vienna:20240507T120000
DTSTAMP:20260425T140931
CREATED:20231220T115529Z
LAST-MODIFIED:20231220T120443Z
UID:3739-1715072400-1715083200@wir-5-im-wienerwald.at
SUMMARY:Kunstvermittlung für Menschen mit Demenz im Künstlerhaus Wien
DESCRIPTION:Kunstvermittlung für Menschen mit Demenz und ihre Begleitpersonen\nMit der Volkshilfe Wien wurde ein gemeinsames Programm erarbeitet\, um leicht zugängliche Begegnungen mit zeitgenössischer Kunst zu ermöglichen. Die Workshops werden aus dem Demenzhilfe-Fonds der Volkshilfe finanziert und sind für die Teilnehmer*innen kostenlos. \nFolgender  Schwerpunkt wird bei diesem Termin angeboten: \n\nPapier und Farbe – Durch das Erspüren verschiedener Papier- und Farbqualitäten nähert man sich an das Kunstwerk an.\n\n  \nWir werden mit einem kleinen Rundgang der aktuellen Ausstellung beginnen und anschließend im offenen Atelier verschiedene Techniken ausprobieren. \n–> Eine gemeinsame Anreise mit einem gemieteten Autobus aus der Kleinregion ist geplant. \n–> Bei Interesse bitte unter regionalegesundheit@gmail.com anmelden \n–> Die Teilnahme ist kostenlos & die Fahrtkosten werden von der demenzfreundlichen Region übernommen. \n****ACHTUNG: Die Teilnehmer*innen-Anzahl ist auf 5 Personen beschränkt ****
URL:https://wir-5-im-wienerwald.at/termin/kunstvermittlung-fuer-menschen-mit-demenz-im-kuenstlerhaus-wien-2/
ORGANIZER;CN="Monika Hartl - Regionale Gesundheitskoordinatorin":MAILTO:regionalegesundheit@gmail.com
END:VEVENT
BEGIN:VEVENT
DTSTART;TZID=Europe/Vienna:20240521T183000
DTEND;TZID=Europe/Vienna:20240521T200000
DTSTAMP:20260425T140931
CREATED:20231220T121141Z
LAST-MODIFIED:20240409T073616Z
UID:3751-1716316200-1716321600@wir-5-im-wienerwald.at
SUMMARY:Stammtisch für pflegende Angehörige
DESCRIPTION:Sie sind nicht allein!\nDer STAMMTISCH für pflegende Angehörige bietet die Möglichkeit für Austausch und Beratung. \n\n-) betreut von Coachin Andrea Berger-Leitner \n-) Teilnahme ist kostenlos!\n-) Bitte um vorherige Anmeldung (telefonisch oder per e-Mail!)
URL:https://wir-5-im-wienerwald.at/termin/stammtisch-fuer-pflegende-angehoerige-12/
LOCATION:Gasthaus Stockinger\, Hauptstraße 46\, Tullnerbach\, 3013
CATEGORIES:Stammtisch für pflegende Angehörige
ATTACH;FMTTYPE=image/jpeg:https://wir-5-im-wienerwald.at/wp-content/uploads/2023/03/20230117_190606.jpg
ORGANIZER;CN="Monika Hartl - Regionale Gesundheitskoordinatorin":MAILTO:regionalegesundheit@gmail.com
END:VEVENT
END:VCALENDAR