BEGIN:VCALENDAR
VERSION:2.0
PRODID:-//Wir 5 im Wienerwald - ECPv6.15.20//NONSGML v1.0//EN
CALSCALE:GREGORIAN
METHOD:PUBLISH
X-WR-CALNAME:Wir 5 im Wienerwald
X-ORIGINAL-URL:https://wir-5-im-wienerwald.at
X-WR-CALDESC:Veranstaltungen für Wir 5 im Wienerwald
REFRESH-INTERVAL;VALUE=DURATION:PT1H
X-Robots-Tag:noindex
X-PUBLISHED-TTL:PT1H
BEGIN:VTIMEZONE
TZID:Europe/Vienna
BEGIN:DAYLIGHT
TZOFFSETFROM:+0100
TZOFFSETTO:+0200
TZNAME:CEST
DTSTART:20230326T010000
END:DAYLIGHT
BEGIN:STANDARD
TZOFFSETFROM:+0200
TZOFFSETTO:+0100
TZNAME:CET
DTSTART:20231029T010000
END:STANDARD
BEGIN:DAYLIGHT
TZOFFSETFROM:+0100
TZOFFSETTO:+0200
TZNAME:CEST
DTSTART:20240331T010000
END:DAYLIGHT
BEGIN:STANDARD
TZOFFSETFROM:+0200
TZOFFSETTO:+0100
TZNAME:CET
DTSTART:20241027T010000
END:STANDARD
BEGIN:DAYLIGHT
TZOFFSETFROM:+0100
TZOFFSETTO:+0200
TZNAME:CEST
DTSTART:20250330T010000
END:DAYLIGHT
BEGIN:STANDARD
TZOFFSETFROM:+0200
TZOFFSETTO:+0100
TZNAME:CET
DTSTART:20251026T010000
END:STANDARD
END:VTIMEZONE
BEGIN:VEVENT
DTSTART;TZID=Europe/Vienna:20240604T133000
DTEND;TZID=Europe/Vienna:20240604T160000
DTSTAMP:20260425T124714
CREATED:20240430T091541Z
LAST-MODIFIED:20240430T091613Z
UID:4156-1717507800-1717516800@wir-5-im-wienerwald.at
SUMMARY:Miteinander Unterwegs - in den Tierpark Wolfsgraben
DESCRIPTION:Gemeinsam fahren wir in den Tierpark Wolfsgraben und bekommen eine Führung! \nAbfahrt ist um 13:30 Uhr aus der Kleinregion – der BusTransfer wird von der Demenzfreundlichen Region organisiert. \nNach der Führung gibt es eine Möglichkeit zur Stärkung und Jause und um 16 Uhr geht es mit dem Bus wieder zurück. \n  \nBitte um vorherige Anmeldung unter demenz@wir-5-im-wienerwald.at – die Plätze sind limitiert.\nDie Teilnahme sowie Bustransfer sind kostenlos!
URL:https://wir-5-im-wienerwald.at/termin/miteinander-unterwegs-in-den-tierpark-wolfsgraben/
ATTACH;FMTTYPE=image/jpeg:https://wir-5-im-wienerwald.at/wp-content/uploads/2024/02/IMG-20240227-WA0011.jpg
ORGANIZER;CN="Demenzfreundliche Region Wir-5-im-Wienerwald":MAILTO:demenz@wir-5-im-wienerwald.at
END:VEVENT
BEGIN:VEVENT
DTSTART;TZID=Europe/Vienna:20240618T183000
DTEND;TZID=Europe/Vienna:20240618T200000
DTSTAMP:20260425T124714
CREATED:20231220T121209Z
LAST-MODIFIED:20240409T073609Z
UID:3753-1718735400-1718740800@wir-5-im-wienerwald.at
SUMMARY:Stammtisch für pflegende Angehörige
DESCRIPTION:Sie sind nicht allein!\nDer STAMMTISCH für pflegende Angehörige bietet die Möglichkeit für Austausch und Beratung. \n\n-) betreut von Coachin Andrea Berger-Leitner \n-) Teilnahme ist kostenlos!\n-) Bitte um vorherige Anmeldung (telefonisch oder per e-Mail!)
URL:https://wir-5-im-wienerwald.at/termin/stammtisch-fuer-pflegende-angehoerige-13/
LOCATION:Gasthaus Stockinger\, Hauptstraße 46\, Tullnerbach\, 3013
CATEGORIES:Stammtisch für pflegende Angehörige
ATTACH;FMTTYPE=image/jpeg:https://wir-5-im-wienerwald.at/wp-content/uploads/2023/03/20230117_190606.jpg
ORGANIZER;CN="Monika Hartl - Regionale Gesundheitskoordinatorin":MAILTO:regionalegesundheit@gmail.com
END:VEVENT
BEGIN:VEVENT
DTSTART;TZID=Europe/Vienna:20240627T093000
DTEND;TZID=Europe/Vienna:20240627T170000
DTSTAMP:20260425T124714
CREATED:20240502T102212Z
LAST-MODIFIED:20240502T102212Z
UID:4188-1719480600-1719507600@wir-5-im-wienerwald.at
SUMMARY:Demenz Meet 2024
DESCRIPTION:Kommunikation ist Kunst!\nDas vierte Demenz Meet widmet sich der Begegnung und dem Austausch in Worten\, in Bildern\, in Bewegung\, in Melodie und Dramaturgie. Wir zeigen auf\, dass Kommunikation Kunst und Kunst eine Form der Kommunikation ist. \nHIER GEHT’S ZUM PROGRAMM \nDemenz Meets sind unkomplizierte\, lebendige und inspirierende Zusammenkünfte von Menschen mit Demenz\, ihren Angehörigen sowie privat und beruflich Interessierten. Seien Sie dabei\, wir freuen uns auf Sie!
URL:https://wir-5-im-wienerwald.at/termin/demenz-meet-2024/
LOCATION:Kardinal König Haus\, Kardinal-König-Platz 3\, Wien\, 1130\, Austria
ATTACH;FMTTYPE=image/png:https://wir-5-im-wienerwald.at/wp-content/uploads/2024/05/demenzmeet2024.png
ORGANIZER;CN="Caritas Pflege":MAILTO:pflege@caritas-wien.at
END:VEVENT
END:VCALENDAR