BEGIN:VCALENDAR
VERSION:2.0
PRODID:-//Wir 5 im Wienerwald - ECPv6.15.20//NONSGML v1.0//EN
CALSCALE:GREGORIAN
METHOD:PUBLISH
X-ORIGINAL-URL:https://wir-5-im-wienerwald.at
X-WR-CALDESC:Veranstaltungen für Wir 5 im Wienerwald
REFRESH-INTERVAL;VALUE=DURATION:PT1H
X-Robots-Tag:noindex
X-PUBLISHED-TTL:PT1H
BEGIN:VTIMEZONE
TZID:Europe/Vienna
BEGIN:DAYLIGHT
TZOFFSETFROM:+0100
TZOFFSETTO:+0200
TZNAME:CEST
DTSTART:20240331T010000
END:DAYLIGHT
BEGIN:STANDARD
TZOFFSETFROM:+0200
TZOFFSETTO:+0100
TZNAME:CET
DTSTART:20241027T010000
END:STANDARD
BEGIN:DAYLIGHT
TZOFFSETFROM:+0100
TZOFFSETTO:+0200
TZNAME:CEST
DTSTART:20250330T010000
END:DAYLIGHT
BEGIN:STANDARD
TZOFFSETFROM:+0200
TZOFFSETTO:+0100
TZNAME:CET
DTSTART:20251026T010000
END:STANDARD
BEGIN:DAYLIGHT
TZOFFSETFROM:+0100
TZOFFSETTO:+0200
TZNAME:CEST
DTSTART:20260329T010000
END:DAYLIGHT
BEGIN:STANDARD
TZOFFSETFROM:+0200
TZOFFSETTO:+0100
TZNAME:CET
DTSTART:20261025T010000
END:STANDARD
END:VTIMEZONE
BEGIN:VEVENT
DTSTART;TZID=Europe/Vienna:20250318T183000
DTEND;TZID=Europe/Vienna:20250318T200000
DTSTAMP:20260421T110747
CREATED:20250116T094626Z
LAST-MODIFIED:20250225T165950Z
UID:4228-1742322600-1742328000@wir-5-im-wienerwald.at
SUMMARY:Stammtisch für pflegende Angehörige
DESCRIPTION:Sie sind nicht allein!\nDer STAMMTISCH für pflegende Angehörige bietet die Möglichkeit für Austausch und Beratung. \n\n-) betreut von Coachin Andrea Berger-Leitner \n-) Teilnahme ist kostenlos!\n-) Bitte um vorherige Anmeldung (telefonisch oder per e-Mail!)
URL:https://wir-5-im-wienerwald.at/termin/stammtisch-fuer-pflegende-angehoerige-21/
LOCATION:Gasthaus Stockinger\, Hauptstraße 46\, Tullnerbach\, 3013
CATEGORIES:Demenzfreundliche Region,Stammtisch für pflegende Angehörige
ATTACH;FMTTYPE=image/jpeg:https://wir-5-im-wienerwald.at/wp-content/uploads/2023/03/20230117_190606.jpg
ORGANIZER;CN="Monika Hartl - Regionale Gesundheitskoordinatorin":MAILTO:regionalegesundheit@gmail.com
END:VEVENT
BEGIN:VEVENT
DTSTART;TZID=Europe/Vienna:20250328T143000
DTEND;TZID=Europe/Vienna:20250328T170000
DTSTAMP:20260421T110747
CREATED:20250321T113409Z
LAST-MODIFIED:20250321T113409Z
UID:4358-1743172200-1743181200@wir-5-im-wienerwald.at
SUMMARY:Demenzsensible Führung im Technischen Museum
DESCRIPTION:Musik liegt in der Luft\nWir laden Sie ein\, gemeinsam der Musik zu lauschen\, das eine oder andere Liedchen mitanzustimmen oder ein Tänzchen zu wagen.\nJahrmarktorgeln und historische Musikautomaten werden wie von Geisterhand zum Klingen gebracht. Die Musik versetzt nicht nur die Gemäuer des Technischen Museums Wien in Schwingung\, sondern kann auch uns Menschen tief bewegen und Erinnerungen wecken. \nFür Menschen mit Demenz und deren Begleitperson ist die Führung inkl. Museumseintritt am 28.3.2025 kostenlos. \n***ABHOLUNG AUS DER KLEINREGION – 2 PLÄTZE SIND NOCH FREI!***\n–> Bitte um telefonische Anmeldung bei Monika Hartl\, tel: 0676/5291493 \nDemenzsensible Führung_TMW_28_03_2025
URL:https://wir-5-im-wienerwald.at/termin/demenzsensible-fuehrung-im-technischen-museum/
LOCATION:Technisches Museum Wien
ORGANIZER;CN="Monika Hartl - Regionale Gesundheitskoordinatorin":MAILTO:regionalegesundheit@gmail.com
END:VEVENT
BEGIN:VEVENT
DTSTART;TZID=Europe/Vienna:20250329T153000
DTEND;TZID=Europe/Vienna:20250329T173000
DTSTAMP:20260421T110747
CREATED:20250116T095303Z
LAST-MODIFIED:20250225T165950Z
UID:4249-1743262200-1743269400@wir-5-im-wienerwald.at
SUMMARY:Bunte Nachmittage mit Kaffee & Kuchen
DESCRIPTION:GEDÄCHTNISPROBLEME?\nDEMENZ?\nWAS NUN?\nVergesslichkeit und Demenz stellen für viele Betroffene und deren Angehörige eine Herausforderung dar.Kommen Sie in unsere Runde\, Sie sind nicht allein!\n●  für Betroffene ●  Beratung für Angehörige ●  Betreut von Demenzexpertinnen Wir unterstützen sie mit: \n●  Informationen ●  Praktischen Tipps & Anregungen ●  Möglichkeit zum Austausch ●  Professioneller Begleitung ●  Aktivgruppe für Menschen mit Vergesslichkeit und Demenz \nWir bitten um vorherige Anmeldung unter demenz@wir-5-im-wienerwald.at oder 0676/848116500\n\nHaben Sie Lust dieses Projekt zu unterstützen und mitzutun?Melden Sie sich bitte bei ihrer jeweiligen Gemeinde oder über unser Kontaktformular.
URL:https://wir-5-im-wienerwald.at/termin/bunte-nachmittage-mit-kaffee-kuchen-15/
LOCATION:Gemeindezentrum Mauerbach\, Hauptstraße 246\, Mauerbach\, 3001\, Austria
CATEGORIES:Bunter Nachmittag,Demenzfreundliche Region
ATTACH;FMTTYPE=image/png:https://wir-5-im-wienerwald.at/wp-content/uploads/2023/07/BuNaHeader.png
ORGANIZER;CN="Regina Pessenbacher-Orasch":MAILTO:demenz@wir-5-im-wienerwald.at
END:VEVENT
BEGIN:VEVENT
DTSTART;TZID=Europe/Vienna:20250331T183000
DTEND;TZID=Europe/Vienna:20250331T200000
DTSTAMP:20260421T110747
CREATED:20250321T105831Z
LAST-MODIFIED:20250321T105831Z
UID:4348-1743445800-1743451200@wir-5-im-wienerwald.at
SUMMARY:Lesetreff in der Stadtbibliothek Purkersdorf
DESCRIPTION:Der Lesetreff findet immer am letzten Montag im Monat statt.\nDie Teilnahme ist gratis!\n\nWir diskutieren über unterschiedlichste Themen und Bücher – das Thema des Monats wird immer gemeinsam ausgesucht.
URL:https://wir-5-im-wienerwald.at/termin/lesetreff-in-der-stadtbibliothek-purkersdorf/
LOCATION:Stadtbibliothek Purkersdorf\, Schwarzhubergasse 5\, Purkersdorf\, 3002\, Austria
ATTACH;FMTTYPE=image/jpeg:https://wir-5-im-wienerwald.at/wp-content/uploads/2025/03/slider.jpg
ORGANIZER;CN="Stadtbibliothek Purkersdorf":MAILTO:stadtbibliothek@purkersdorf.at
END:VEVENT
END:VCALENDAR