BEGIN:VCALENDAR
VERSION:2.0
PRODID:-//Wir 5 im Wienerwald - ECPv6.15.20//NONSGML v1.0//EN
CALSCALE:GREGORIAN
METHOD:PUBLISH
X-WR-CALNAME:Wir 5 im Wienerwald
X-ORIGINAL-URL:https://wir-5-im-wienerwald.at
X-WR-CALDESC:Veranstaltungen für Wir 5 im Wienerwald
REFRESH-INTERVAL;VALUE=DURATION:PT1H
X-Robots-Tag:noindex
X-PUBLISHED-TTL:PT1H
BEGIN:VTIMEZONE
TZID:Europe/Vienna
BEGIN:DAYLIGHT
TZOFFSETFROM:+0100
TZOFFSETTO:+0200
TZNAME:CEST
DTSTART:20240331T010000
END:DAYLIGHT
BEGIN:STANDARD
TZOFFSETFROM:+0200
TZOFFSETTO:+0100
TZNAME:CET
DTSTART:20241027T010000
END:STANDARD
BEGIN:DAYLIGHT
TZOFFSETFROM:+0100
TZOFFSETTO:+0200
TZNAME:CEST
DTSTART:20250330T010000
END:DAYLIGHT
BEGIN:STANDARD
TZOFFSETFROM:+0200
TZOFFSETTO:+0100
TZNAME:CET
DTSTART:20251026T010000
END:STANDARD
BEGIN:DAYLIGHT
TZOFFSETFROM:+0100
TZOFFSETTO:+0200
TZNAME:CEST
DTSTART:20260329T010000
END:DAYLIGHT
BEGIN:STANDARD
TZOFFSETFROM:+0200
TZOFFSETTO:+0100
TZNAME:CET
DTSTART:20261025T010000
END:STANDARD
END:VTIMEZONE
BEGIN:VEVENT
DTSTART;TZID=Europe/Vienna:20250611T160000
DTEND;TZID=Europe/Vienna:20250611T180000
DTSTAMP:20260421T052837
CREATED:20250513T092549Z
LAST-MODIFIED:20250513T092810Z
UID:4417-1749657600-1749664800@wir-5-im-wienerwald.at
SUMMARY:Begegnung durch Bewegung in Tullnerbach
DESCRIPTION:Begegnung durch Bewegung\nInteressiert an neuen Bekanntschaften? Nehmen Sie sich eine Auszeit\, treten Sie mit interessanten Menschen in Kontakt und genießen Sie anregende Gespräche – bei unserem “Begegnung durch Bewegung”-Spaziergang ist dies alles möglich!\nWir freuen uns\, Sie zu unserem nächsten gemeinsamen Spaziergang\, unter dem Motto “Begegnung durch Bewegung”\, einzuladen. Diese Veranstaltung bietet eine hervorragende Gelegenheit\, in lockerer Umgebung ins Gespräch zu kommen und neue soziale Kontakte zu knüpfen. Nutzen Sie die Chance\, sich über Alltägliches auszutauschen\, Erfahrungen und Geschichten zu teilen\, gemeinsame Interessen zu entdecken und wertvolle Verbindungen zu schaffen. Alle sind willkommen! \nWo: Treffpunkt ist am Bahnhof Tullnerbach (Ausgang Egererstraße)\nWas: Gemeinsam Spazieren wir entlang des “tut Gut” Schritteweges\, wobei wir uns in verschiedene Geh-Geschwindigkeiten aufteilen.
URL:https://wir-5-im-wienerwald.at/termin/begegnung-durch-bewegung-im-naturpark-purkersdorf-copy/
LOCATION:Treffpunkt: Bahnhof Tullnerbach (Ausgang Egererstraße)
CATEGORIES:Begegnung durch Bewegung
ATTACH;FMTTYPE=image/png:https://wir-5-im-wienerwald.at/wp-content/uploads/2025/05/spaziergang-2.png
ORGANIZER;CN="Sorgende Gemeinschaft":MAILTO:info@wir-5-im-wienerwald.at
END:VEVENT
BEGIN:VEVENT
DTSTART;TZID=Europe/Vienna:20250612T180000
DTEND;TZID=Europe/Vienna:20250612T200000
DTSTAMP:20260421T052837
CREATED:20250516T102105Z
LAST-MODIFIED:20250611T114756Z
UID:4430-1749751200-1749758400@wir-5-im-wienerwald.at
SUMMARY:Netzwerktreffen Sorgende Gemeinschaft
DESCRIPTION:wir laden euch herzlich zum nächsten Netzwerk-Treffen der Sorgenden Gemeinschaft – Wir 5 im Wienerwald ein! \n🗓 Donnerstag\, 12. Juni 2025\n🕕 18:00–20:00 Uhr\n📍 pfarrheim Gablitz\, Kirchenplatz 2 \nFreut euch auf einen Impuls vom Caritas-Plaudernetz (sowie den weiteren „Plauderangeboten“ Plauderraum und Plauderbankerl) – mit spannenden Einblicken\, wie Begegnung und Gespräch gegen Einsamkeit wirken können. \nIm Anschluss bleibt ausreichend Zeit zum Austausch\, Vernetzen und Kennenlernen anderer Akteur*innen aus der Region. \n👉 Weitere Infos unter: www.wir-5-im-wienerwald.at/sorgende-gemeinschaft \nWir freuen uns auf eure Teilnahme und ein lebendiges Miteinander!
URL:https://wir-5-im-wienerwald.at/termin/netzwerktreffen-sorgende-gemeinschaft/
LOCATION:Pfarrheim Gablitz\, Kirchenplatz 2\, Gablitz\, 3003
ATTACH;FMTTYPE=image/jpeg:https://wir-5-im-wienerwald.at/wp-content/uploads/2025/05/2025-06netzwerktreffen-1.jpg
ORGANIZER;CN="Sorgende Gemeinschaft":MAILTO:info@wir-5-im-wienerwald.at
END:VEVENT
BEGIN:VEVENT
DTSTART;TZID=Europe/Vienna:20250616T183000
DTEND;TZID=Europe/Vienna:20250616T200000
DTSTAMP:20260421T052837
CREATED:20250116T094818Z
LAST-MODIFIED:20250605T133432Z
UID:4235-1750098600-1750104000@wir-5-im-wienerwald.at
SUMMARY:Stammtisch für pflegende Angehörige
DESCRIPTION:Sie sind nicht allein!\nDer STAMMTISCH für pflegende Angehörige bietet die Möglichkeit für Austausch und Beratung. \n\n-) betreut von Coachin Andrea Berger-Leitner \n-) Teilnahme ist kostenlos!\n-) Bitte um vorherige Anmeldung (telefonisch oder per e-Mail!)
URL:https://wir-5-im-wienerwald.at/termin/stammtisch-fuer-pflegende-angehoerige-23/
LOCATION:Gasthaus Stockinger\, Hauptstraße 46\, Tullnerbach\, 3013
CATEGORIES:Demenzfreundliche Region,Stammtisch für pflegende Angehörige
ATTACH;FMTTYPE=image/jpeg:https://wir-5-im-wienerwald.at/wp-content/uploads/2023/03/20230117_190606.jpg
ORGANIZER;CN="Monika Hartl - Regionale Gesundheitskoordinatorin":MAILTO:regionalegesundheit@gmail.com
END:VEVENT
BEGIN:VEVENT
DTSTART;TZID=Europe/Vienna:20250627T153000
DTEND;TZID=Europe/Vienna:20250627T173000
DTSTAMP:20260421T052837
CREATED:20250116T095553Z
LAST-MODIFIED:20250225T165950Z
UID:4254-1751038200-1751045400@wir-5-im-wienerwald.at
SUMMARY:Bunte Nachmittage mit Kaffee & Kuchen
DESCRIPTION:GEDÄCHTNISPROBLEME?\nDEMENZ?\nWAS NUN?\nVergesslichkeit und Demenz stellen für viele Betroffene und deren Angehörige eine Herausforderung dar.Kommen Sie in unsere Runde\, Sie sind nicht allein!\n●  für Betroffene ●  Beratung für Angehörige ●  Betreut von Demenzexpertinnen Wir unterstützen sie mit: \n●  Informationen ●  Praktischen Tipps & Anregungen ●  Möglichkeit zum Austausch ●  Professioneller Begleitung ●  Aktivgruppe für Menschen mit Vergesslichkeit und Demenz \nWir bitten um vorherige Anmeldung unter demenz@wir-5-im-wienerwald.at oder 0676/848116500\n\nHaben Sie Lust dieses Projekt zu unterstützen und mitzutun?Melden Sie sich bitte bei ihrer jeweiligen Gemeinde oder über unser Kontaktformular.
URL:https://wir-5-im-wienerwald.at/termin/bunte-nachmittage-mit-kaffee-kuchen-17/
LOCATION:Volkshaus Purkersdorf\, Wiener Straße 2\, Purkersdorf\, 3002
CATEGORIES:Bunter Nachmittag,Demenzfreundliche Region
ATTACH;FMTTYPE=image/png:https://wir-5-im-wienerwald.at/wp-content/uploads/2023/07/BuNaHeader.png
ORGANIZER;CN="Dana Puntigam":MAILTO:demenz@wir-5-im-wienerwald.at
END:VEVENT
END:VCALENDAR