BEGIN:VCALENDAR
VERSION:2.0
PRODID:-//Wir 5 im Wienerwald - ECPv6.15.20//NONSGML v1.0//EN
CALSCALE:GREGORIAN
METHOD:PUBLISH
X-WR-CALNAME:Wir 5 im Wienerwald
X-ORIGINAL-URL:https://wir-5-im-wienerwald.at
X-WR-CALDESC:Veranstaltungen für Wir 5 im Wienerwald
REFRESH-INTERVAL;VALUE=DURATION:PT1H
X-Robots-Tag:noindex
X-PUBLISHED-TTL:PT1H
BEGIN:VTIMEZONE
TZID:Europe/Vienna
BEGIN:DAYLIGHT
TZOFFSETFROM:+0100
TZOFFSETTO:+0200
TZNAME:CEST
DTSTART:20240331T010000
END:DAYLIGHT
BEGIN:STANDARD
TZOFFSETFROM:+0200
TZOFFSETTO:+0100
TZNAME:CET
DTSTART:20241027T010000
END:STANDARD
BEGIN:DAYLIGHT
TZOFFSETFROM:+0100
TZOFFSETTO:+0200
TZNAME:CEST
DTSTART:20250330T010000
END:DAYLIGHT
BEGIN:STANDARD
TZOFFSETFROM:+0200
TZOFFSETTO:+0100
TZNAME:CET
DTSTART:20251026T010000
END:STANDARD
BEGIN:DAYLIGHT
TZOFFSETFROM:+0100
TZOFFSETTO:+0200
TZNAME:CEST
DTSTART:20260329T010000
END:DAYLIGHT
BEGIN:STANDARD
TZOFFSETFROM:+0200
TZOFFSETTO:+0100
TZNAME:CET
DTSTART:20261025T010000
END:STANDARD
END:VTIMEZONE
BEGIN:VEVENT
DTSTART;TZID=Europe/Vienna:20250910T180000
DTEND;TZID=Europe/Vienna:20250910T200000
DTSTAMP:20260421T000222
CREATED:20250721T125157Z
LAST-MODIFIED:20250721T125157Z
UID:4472-1757527200-1757534400@wir-5-im-wienerwald.at
SUMMARY:Netzwerktreffen: Initiativen&Angebote vor den Vorhang geholt!
DESCRIPTION:Sozialer Zusammenhalt entsteht dort\, wo Menschen zusammenkommen\, sich austauschen und gemeinsam aktiv werden. Genau darum geht es beim nächsten Netzwerktreffen der Sorgenden Gemeinschaft in der Kleinregion Wir-5-im-Wienerwald: \n📅 Mittwoch\, 10. September 2025🕕 18:00–20:00 Uhr📍 Mauerbach – genauer Veranstaltungsort wird noch bekanntgegeben \nUnser Ziel: Initiativen\, Projekte und engagierte Menschen aus den fünf Gemeinden zusammenzubringen\, die sich für ein starkes Miteinander und gegen Einsamkeit einsetzen. Viele tolle Ideen und Angebote gibt es bereits – wir wollen sie sichtbar machen\, voneinander lernen und neue Kooperationen ermöglichen. \nNeben der Vorstellung bestehender Projekte gibt es ausreichend Raum für Austausch\, Vernetzung und die gemeinsame Suche nach Synergien. Denn oft entstehen im persönlichen Gespräch ganz neue Ansätze\, wie wir unsere Gemeinden noch lebenswerter und sozialer gestalten können. \nSie sind Teil einer Initiative oder eines Projekts\, das den sozialen Zusammenhalt stärkt?Dann laden wir Sie herzlich ein\, Ihr Engagement beim Netzwerktreffen vorzustellen! Auch Hinweise auf spannende Angebote aus Ihrer Gemeinde nehmen wir gerne auf. \n👉 Jetzt mitmachen und melden!Wenn Sie Ihr Projekt präsentieren möchten oder Fragen haben\, freuen wir uns über eine kurze Nachricht an: fabian.wildner@caritas-wien.at \nGemeinsam machen wir sichtbar\, was in unserer Region alles möglich ist – wir freuen uns auf zahlreiche Teilnehmer*innen und ein inspirierendes Miteinander!
URL:https://wir-5-im-wienerwald.at/termin/netzwerktreffen-initiativenangebote-vor-den-vorhang-geholt/
LOCATION:Mauerbach (genaue Location folgt!)
ATTACH;FMTTYPE=image/jpeg:https://wir-5-im-wienerwald.at/wp-content/uploads/2025/07/2025-06netzwerktreffen-3.jpg
ORGANIZER;CN="Sorgende Gemeinschaft":MAILTO:info@wir-5-im-wienerwald.at
END:VEVENT
BEGIN:VEVENT
DTSTART;TZID=Europe/Vienna:20250916T183000
DTEND;TZID=Europe/Vienna:20250916T200000
DTSTAMP:20260421T000222
CREATED:20250116T095002Z
LAST-MODIFIED:20250225T165949Z
UID:4241-1758047400-1758052800@wir-5-im-wienerwald.at
SUMMARY:Stammtisch für pflegende Angehörige
DESCRIPTION:Sie sind nicht allein!\nDer STAMMTISCH für pflegende Angehörige bietet die Möglichkeit für Austausch und Beratung. \n\n-) betreut von Coachin Andrea Berger-Leitner \n-) Teilnahme ist kostenlos!\n-) Bitte um vorherige Anmeldung (telefonisch oder per e-Mail!)
URL:https://wir-5-im-wienerwald.at/termin/stammtisch-fuer-pflegende-angehoerige-26/
LOCATION:Gasthaus Stockinger\, Hauptstraße 46\, Tullnerbach\, 3013
CATEGORIES:Demenzfreundliche Region,Stammtisch für pflegende Angehörige
ATTACH;FMTTYPE=image/jpeg:https://wir-5-im-wienerwald.at/wp-content/uploads/2023/03/20230117_190606.jpg
ORGANIZER;CN="Monika Hartl - Regionale Gesundheitskoordinatorin":MAILTO:regionalegesundheit@gmail.com
END:VEVENT
BEGIN:VEVENT
DTSTART;TZID=Europe/Vienna:20250927T153000
DTEND;TZID=Europe/Vienna:20250927T173000
DTSTAMP:20260421T000222
CREATED:20250721T132652Z
LAST-MODIFIED:20250721T132652Z
UID:4480-1758987000-1758994200@wir-5-im-wienerwald.at
SUMMARY:Bunte Nachmittage mit Kaffee & Kuchen
DESCRIPTION:GEDÄCHTNISPROBLEME?\nDEMENZ?\nWAS NUN?\nVergesslichkeit und Demenz stellen für viele Betroffene und deren Angehörige eine Herausforderung dar.Kommen Sie in unsere Runde\, Sie sind nicht allein!\n●  für Betroffene ●  Beratung für Angehörige ●  Betreut von Demenzexpertinnen Wir unterstützen sie mit: \n●  Informationen ●  Praktischen Tipps & Anregungen ●  Möglichkeit zum Austausch ●  Professioneller Begleitung ●  Aktivgruppe für Menschen mit Vergesslichkeit und Demenz \nWir bitten um vorherige Anmeldung unter demenz@wir-5-im-wienerwald.at oder 0676/848116500\n\nHaben Sie Lust dieses Projekt zu unterstützen und mitzutun?Melden Sie sich bitte bei ihrer jeweiligen Gemeinde oder über unser Kontaktformular.
URL:https://wir-5-im-wienerwald.at/termin/bunte-nachmittage-mit-kaffee-kuchen-20/
LOCATION:Gemeindezentrum Mauerbach\, Hauptstraße 246\, Mauerbach\, 3001\, Austria
CATEGORIES:Bunter Nachmittag,Demenzfreundliche Region
ATTACH;FMTTYPE=image/png:https://wir-5-im-wienerwald.at/wp-content/uploads/2023/07/BuNaHeader.png
ORGANIZER;CN="Dana Puntigam":MAILTO:demenz@wir-5-im-wienerwald.at
END:VEVENT
END:VCALENDAR