BEGIN:VCALENDAR
VERSION:2.0
PRODID:-//Wir 5 im Wienerwald - ECPv6.15.20//NONSGML v1.0//EN
CALSCALE:GREGORIAN
METHOD:PUBLISH
X-ORIGINAL-URL:https://wir-5-im-wienerwald.at
X-WR-CALDESC:Veranstaltungen für Wir 5 im Wienerwald
REFRESH-INTERVAL;VALUE=DURATION:PT1H
X-Robots-Tag:noindex
X-PUBLISHED-TTL:PT1H
BEGIN:VTIMEZONE
TZID:Europe/Vienna
BEGIN:DAYLIGHT
TZOFFSETFROM:+0100
TZOFFSETTO:+0200
TZNAME:CEST
DTSTART:20240331T010000
END:DAYLIGHT
BEGIN:STANDARD
TZOFFSETFROM:+0200
TZOFFSETTO:+0100
TZNAME:CET
DTSTART:20241027T010000
END:STANDARD
BEGIN:DAYLIGHT
TZOFFSETFROM:+0100
TZOFFSETTO:+0200
TZNAME:CEST
DTSTART:20250330T010000
END:DAYLIGHT
BEGIN:STANDARD
TZOFFSETFROM:+0200
TZOFFSETTO:+0100
TZNAME:CET
DTSTART:20251026T010000
END:STANDARD
BEGIN:DAYLIGHT
TZOFFSETFROM:+0100
TZOFFSETTO:+0200
TZNAME:CEST
DTSTART:20260329T010000
END:DAYLIGHT
BEGIN:STANDARD
TZOFFSETFROM:+0200
TZOFFSETTO:+0100
TZNAME:CET
DTSTART:20261025T010000
END:STANDARD
END:VTIMEZONE
BEGIN:VEVENT
DTSTART;TZID=Europe/Vienna:20251202T150000
DTEND;TZID=Europe/Vienna:20251202T161500
DTSTAMP:20260420T184951
CREATED:20250916T114923Z
LAST-MODIFIED:20250916T114923Z
UID:4538-1764687600-1764692100@wir-5-im-wienerwald.at
SUMMARY:Trauercafé Mauerbach
DESCRIPTION:Trauern ist ein Weg\, den niemand alleine gehen muss.\nDeshalb laden wir herzlich ein zu unserem konfessionsunabhängigen und überpfarrlichen Trauercafé\, einem geschützten Ort des Zuhörens\, Austauschs und stillen Daseins. \nMit großer Dankbarkeit blicken wir auf die letzten beiden Treffen zurück\, die sehr gut besucht waren. \nDanke für euer Vertrauen! \nOb in Stille oder im Gespräch\, Du bist willkommen\, genauso wie Du bist! Ein Ort für Menschen in Trauer. Niemand soll alleine trauern! \n  \nWir freuen uns auf dein Kommen!
URL:https://wir-5-im-wienerwald.at/termin/trauercafe-mauerbach-3/
LOCATION:Pfarre Mauerbach\, Kartäuserplatz 1\, Mauerbach\, 3001
ATTACH;FMTTYPE=image/png:https://wir-5-im-wienerwald.at/wp-content/uploads/2025/09/trauercafe-mauerbach.png
ORGANIZER;CN="Gordana Cekolj":MAILTO:Gordana.Cekolj@katholischekirche.at
END:VEVENT
BEGIN:VEVENT
DTSTART;TZID=Europe/Vienna:20251216T183000
DTEND;TZID=Europe/Vienna:20251216T200000
DTSTAMP:20260420T184952
CREATED:20250116T095126Z
LAST-MODIFIED:20251216T095402Z
UID:4247-1765909800-1765915200@wir-5-im-wienerwald.at
SUMMARY:Stammtisch für pflegende Angehörige
DESCRIPTION:Sie sind nicht allein!\nDer STAMMTISCH für pflegende Angehörige bietet die Möglichkeit für Austausch und Beratung. \n\n-) betreut von Coachin Andrea Berger-Leitner \n-) Teilnahme ist kostenlos!\n-) Bitte um vorherige Anmeldung (telefonisch oder per e-Mail!)
URL:https://wir-5-im-wienerwald.at/termin/stammtisch-fuer-pflegende-angehoerige-29/
LOCATION:Gemeindeamt Tullnerbach\, Hauptstraße 47\, Tullnerbach-Lawies\, Niederösterreich\, 3013\, Austria
CATEGORIES:Demenzfreundliche Region,Stammtisch für pflegende Angehörige
ATTACH;FMTTYPE=image/jpeg:https://wir-5-im-wienerwald.at/wp-content/uploads/2023/03/20230117_190606.jpg
ORGANIZER;CN="Monika Hartl - Regionale Gesundheitskoordinatorin":MAILTO:regionalegesundheit@gmail.com
END:VEVENT
BEGIN:VEVENT
DTSTART;TZID=Europe/Vienna:20251217T183000
DTEND;TZID=Europe/Vienna:20251217T200000
DTSTAMP:20260420T184952
CREATED:20250916T094533Z
LAST-MODIFIED:20250916T094533Z
UID:4523-1765996200-1766001600@wir-5-im-wienerwald.at
SUMMARY:Trauercafé Gablitz
DESCRIPTION:TRAUERN ist ein liebevolles Erinnern.\nTrauern ist ein Gefühl\, das ein Leben lang bleiben darf. \nHier begegnen Sie anderen Menschen\, die sich in einer ähnlichen Situation befinden. \nUnter fachlicher Begleitung von Andrea Berger-Leitner haben Sie die Möglichkeit\, in liebevoller Umgebung über ihre Trauer zu sprechen oder einfach nur zuzuhören.
URL:https://wir-5-im-wienerwald.at/termin/trauercafe-gablitz-2/
LOCATION:Ärztezentrum Gablitz\, Bachgasse 2a (Ebene 2)\, Gablitz\, 3003
END:VEVENT
END:VCALENDAR