BEGIN:VCALENDAR
VERSION:2.0
PRODID:-//Wir 5 im Wienerwald - ECPv6.15.20//NONSGML v1.0//EN
CALSCALE:GREGORIAN
METHOD:PUBLISH
X-WR-CALNAME:Wir 5 im Wienerwald
X-ORIGINAL-URL:https://wir-5-im-wienerwald.at
X-WR-CALDESC:Veranstaltungen für Wir 5 im Wienerwald
REFRESH-INTERVAL;VALUE=DURATION:PT1H
X-Robots-Tag:noindex
X-PUBLISHED-TTL:PT1H
BEGIN:VTIMEZONE
TZID:Europe/Vienna
BEGIN:DAYLIGHT
TZOFFSETFROM:+0100
TZOFFSETTO:+0200
TZNAME:CEST
DTSTART:20250330T010000
END:DAYLIGHT
BEGIN:STANDARD
TZOFFSETFROM:+0200
TZOFFSETTO:+0100
TZNAME:CET
DTSTART:20251026T010000
END:STANDARD
BEGIN:DAYLIGHT
TZOFFSETFROM:+0100
TZOFFSETTO:+0200
TZNAME:CEST
DTSTART:20260329T010000
END:DAYLIGHT
BEGIN:STANDARD
TZOFFSETFROM:+0200
TZOFFSETTO:+0100
TZNAME:CET
DTSTART:20261025T010000
END:STANDARD
BEGIN:DAYLIGHT
TZOFFSETFROM:+0100
TZOFFSETTO:+0200
TZNAME:CEST
DTSTART:20270328T010000
END:DAYLIGHT
BEGIN:STANDARD
TZOFFSETFROM:+0200
TZOFFSETTO:+0100
TZNAME:CET
DTSTART:20271031T010000
END:STANDARD
END:VTIMEZONE
BEGIN:VEVENT
DTSTART;TZID=Europe/Vienna:20260309T160000
DTEND;TZID=Europe/Vienna:20260309T180000
DTSTAMP:20260420T134229
CREATED:20260114T105510Z
LAST-MODIFIED:20260120T094215Z
UID:4650-1773072000-1773079200@wir-5-im-wienerwald.at
SUMMARY:Demenz-Schulung für Angehörige - EduKation demenz®
DESCRIPTION:Dieses Schulungsprogramm unterstützt Angehörige von Menschen mit Demenz im Umgang mit der Krankheit. Es geht um Verständnis und hilfreiche Wege der Kommunikation\, damit Angehörige den Alltag gut bewältigen können. Die Demenz-Schulung findet an 10 Terminen statt. \nInformation und Anmeldung: dp@beratung-lebenswert.at \nSchulungszyklus: 9. März – 18. Mai 2026 (außer 6. April)\njeweils montags\, 16 – 18 Uhr \nKosten: 199 Euro pro Person \nOrt: Menschengarten Mauerbach\, Hauptstraße 248\, 3001 Mauerbach
URL:https://wir-5-im-wienerwald.at/termin/demenz-schulung-fuer-angehoerige-edukation-demenz/
LOCATION:Menschengarten – Generationenzentrum\, Hauptstraße 248\, Mauerbach\, 3001
CATEGORIES:Demenz-Schulung für Angehörige,Demenzfreundliche Region
ATTACH;FMTTYPE=image/png:https://wir-5-im-wienerwald.at/wp-content/uploads/2023/12/Demenz-Schulung-fuer-Angehoerige.png
ORGANIZER;CN="Dana Puntigam":MAILTO:demenz@wir-5-im-wienerwald.at
END:VEVENT
BEGIN:VEVENT
DTSTART;TZID=Europe/Vienna:20260316T160000
DTEND;TZID=Europe/Vienna:20260316T180000
DTSTAMP:20260420T134229
CREATED:20260114T112931Z
LAST-MODIFIED:20260120T094311Z
UID:4655-1773676800-1773684000@wir-5-im-wienerwald.at
SUMMARY:Demenz-Schulung für Angehörige - EduKation demenz®
DESCRIPTION:Dieses Schulungsprogramm unterstützt Angehörige von Menschen mit Demenz im Umgang mit der Krankheit. Es geht um Verständnis und hilfreiche Wege der Kommunikation\, damit Angehörige den Alltag gut bewältigen können. Die Demenz-Schulung findet an 10 Terminen statt. \nInformation und Anmeldung: dp@beratung-lebenswert.at \nSchulungszyklus: 9. März – 18. Mai 2026 (außer 6. April)\njeweils montags\, 16 – 18 Uhr \nKosten: 199 Euro pro Person \nOrt: Menschengarten Mauerbach\, Hauptstraße 248\, 3001 Mauerbach
URL:https://wir-5-im-wienerwald.at/termin/demenz-schulung-fuer-angehoerige-edukation-demenz-copy/
LOCATION:Menschengarten – Generationenzentrum\, Hauptstraße 248\, Mauerbach\, 3001
CATEGORIES:Demenz-Schulung für Angehörige,Demenzfreundliche Region
ATTACH;FMTTYPE=image/png:https://wir-5-im-wienerwald.at/wp-content/uploads/2023/12/Demenz-Schulung-fuer-Angehoerige.png
ORGANIZER;CN="Dana Puntigam":MAILTO:demenz@wir-5-im-wienerwald.at
END:VEVENT
BEGIN:VEVENT
DTSTART;TZID=Europe/Vienna:20260317T183000
DTEND;TZID=Europe/Vienna:20260317T200000
DTSTAMP:20260420T134229
CREATED:20251216T102200Z
LAST-MODIFIED:20251216T102200Z
UID:4622-1773772200-1773777600@wir-5-im-wienerwald.at
SUMMARY:Stammtisch für pflegende Angehörige
DESCRIPTION:Sie sind nicht allein!\nDer STAMMTISCH für pflegende Angehörige bietet die Möglichkeit für Austausch und Beratung. \n\n-) betreut von Coachin Andrea Berger-Leitner \n-) Teilnahme ist kostenlos!\n-) Bitte um vorherige Anmeldung (telefonisch oder per e-Mail!)
URL:https://wir-5-im-wienerwald.at/termin/stammtisch-fuer-pflegende-angehoerige-32/
LOCATION:Gemeindeamt Tullnerbach\, Hauptstraße 47\, Tullnerbach-Lawies\, Niederösterreich\, 3013\, Austria
CATEGORIES:Demenzfreundliche Region,Stammtisch für pflegende Angehörige
ATTACH;FMTTYPE=image/jpeg:https://wir-5-im-wienerwald.at/wp-content/uploads/2023/03/20230117_190606.jpg
ORGANIZER;CN="Monika Hartl - Regionale Gesundheitskoordinatorin":MAILTO:regionalegesundheit@gmail.com
END:VEVENT
BEGIN:VEVENT
DTSTART;TZID=Europe/Vienna:20260318T180000
DTEND;TZID=Europe/Vienna:20260318T200000
DTSTAMP:20260420T134229
CREATED:20260303T110435Z
LAST-MODIFIED:20260303T112315Z
UID:4685-1773856800-1773864000@wir-5-im-wienerwald.at
SUMMARY:Netzwerktreffen Sorgende Gemeinschaft - Der Einsamkeit begegnen
DESCRIPTION:wir laden euch herzlich zum nächsten Netzwerk-Treffen der Sorgenden Gemeinschaft – Wir 5 im Wienerwald ein! \n🗓 Mittwoch\, 18. März 2026\n🕕 18:00–20:00 Uhr\n📍 Gemeindeamt Tullnerbach\, Hauptstraße 47\, 3013 Tullnerbach-Lawies \nFreut euch auf einen weiteren Impuls vom Caritas-Plaudernetz – mit spannenden Einblicken\, wie Begegnung und Gespräch gegen Einsamkeit wirken können. \nIm Anschluss bleibt ausreichend Zeit zum Kennenlernen und Vernetzen mit anderen Akteur*innen aus der Region. \n👉 Weitere Infos unter: www.wir-5-im-wienerwald.at/sorgende-gemeinschaft \nWir freuen uns auf eure Teilnahme und auf einen lebendigen Austausch!
URL:https://wir-5-im-wienerwald.at/termin/netzwerktreffen-sorgende-gemeinschaft-der-einsamkeit-begegnen/
LOCATION:Gemeindeamt Tullnerbach\, Hauptstraße 47\, Tullnerbach-Lawies\, Niederösterreich\, 3013\, Austria
ATTACH;FMTTYPE=image/jpeg:https://wir-5-im-wienerwald.at/wp-content/uploads/2026/03/einladung-netzwerktreffen-aktuell.jpg
ORGANIZER;CN="Sorgende Gemeinschaft":MAILTO:info@wir-5-im-wienerwald.at
END:VEVENT
BEGIN:VEVENT
DTSTART;TZID=Europe/Vienna:20260320T153000
DTEND;TZID=Europe/Vienna:20260320T173000
DTSTAMP:20260420T134229
CREATED:20251216T095832Z
LAST-MODIFIED:20251216T095900Z
UID:4602-1774020600-1774027800@wir-5-im-wienerwald.at
SUMMARY:Bunte Nachmittage mit Kaffee & Kuchen
DESCRIPTION:GEDÄCHTNISPROBLEME?\nDEMENZ?\nWAS NUN?\nVergesslichkeit und Demenz stellen für viele Betroffene und deren Angehörige eine Herausforderung dar.Kommen Sie in unsere Runde\, Sie sind nicht allein!\n●  für Betroffene ●  Beratung für Angehörige ●  Betreut von Demenzexpertinnen Wir unterstützen sie mit: \n●  Informationen ●  Praktischen Tipps & Anregungen ●  Möglichkeit zum Austausch ●  Professioneller Begleitung ●  Aktivgruppe für Menschen mit Vergesslichkeit und Demenz \nWir bitten um vorherige Anmeldung unter demenz@wir-5-im-wienerwald.at oder 0676/848116500\n\nHaben Sie Lust dieses Projekt zu unterstützen und mitzutun?Melden Sie sich bitte bei ihrer jeweiligen Gemeinde oder über unser Kontaktformular.
URL:https://wir-5-im-wienerwald.at/termin/bunte-nachmittage-mit-kaffee-kuchen-25/
LOCATION:Volkshaus Purkersdorf\, Wiener Straße 2\, Purkersdorf\, 3002
CATEGORIES:Bunter Nachmittag,Demenzfreundliche Region
ATTACH;FMTTYPE=image/png:https://wir-5-im-wienerwald.at/wp-content/uploads/2023/07/BuNaHeader.png
ORGANIZER;CN="Dana Puntigam":MAILTO:demenz@wir-5-im-wienerwald.at
END:VEVENT
BEGIN:VEVENT
DTSTART;TZID=Europe/Vienna:20260323T160000
DTEND;TZID=Europe/Vienna:20260323T180000
DTSTAMP:20260420T134229
CREATED:20260114T113114Z
LAST-MODIFIED:20260120T094402Z
UID:4656-1774281600-1774288800@wir-5-im-wienerwald.at
SUMMARY:Demenz-Schulung für Angehörige - EduKation demenz®
DESCRIPTION:Dieses Schulungsprogramm unterstützt Angehörige von Menschen mit Demenz im Umgang mit der Krankheit. Es geht um Verständnis und hilfreiche Wege der Kommunikation\, damit Angehörige den Alltag gut bewältigen können. Die Demenz-Schulung findet an 10 Terminen statt. \nInformation und Anmeldung: dp@beratung-lebenswert.at \nSchulungszyklus: 9. März – 18. Mai 2026 (außer 6. April)\njeweils montags\, 16 – 18 Uhr \nKosten: 199 Euro pro Person \nOrt: Menschengarten Mauerbach\, Hauptstraße 248\, 3001 Mauerbach
URL:https://wir-5-im-wienerwald.at/termin/demenz-schulung-fuer-angehoerige-edukation-demenz-copy-2/
LOCATION:Menschengarten – Generationenzentrum\, Hauptstraße 248\, Mauerbach\, 3001
CATEGORIES:Demenz-Schulung für Angehörige,Demenzfreundliche Region
ATTACH;FMTTYPE=image/png:https://wir-5-im-wienerwald.at/wp-content/uploads/2023/12/Demenz-Schulung-fuer-Angehoerige.png
ORGANIZER;CN="Dana Puntigam":MAILTO:demenz@wir-5-im-wienerwald.at
END:VEVENT
BEGIN:VEVENT
DTSTART;TZID=Europe/Vienna:20260330T160000
DTEND;TZID=Europe/Vienna:20260330T180000
DTSTAMP:20260420T134229
CREATED:20260114T160818Z
LAST-MODIFIED:20260120T094410Z
UID:4659-1774886400-1774893600@wir-5-im-wienerwald.at
SUMMARY:Demenz-Schulung für Angehörige - EduKation demenz®
DESCRIPTION:Dieses Schulungsprogramm unterstützt Angehörige von Menschen mit Demenz im Umgang mit der Krankheit. Es geht um Verständnis und hilfreiche Wege der Kommunikation\, damit Angehörige den Alltag gut bewältigen können. Die Demenz-Schulung findet an 10 Terminen statt. \nInformation und Anmeldung: dp@beratung-lebenswert.at \nSchulungszyklus: 9. März – 18. Mai 2026 (außer 6. April)\njeweils montags\, 16 – 18 Uhr \nKosten: 199 Euro pro Person \nOrt: Menschengarten Mauerbach\, Hauptstraße 248\, 3001 Mauerbach
URL:https://wir-5-im-wienerwald.at/termin/demenz-schulung-fuer-angehoerige-edukation-demenz-2/
LOCATION:Menschengarten – Generationenzentrum\, Hauptstraße 248\, Mauerbach\, 3001
CATEGORIES:Demenz-Schulung für Angehörige,Demenzfreundliche Region
ATTACH;FMTTYPE=image/png:https://wir-5-im-wienerwald.at/wp-content/uploads/2023/12/Demenz-Schulung-fuer-Angehoerige.png
ORGANIZER;CN="Dana Puntigam":MAILTO:demenz@wir-5-im-wienerwald.at
END:VEVENT
END:VCALENDAR