BEGIN:VCALENDAR
VERSION:2.0
PRODID:-//Wir 5 im Wienerwald - ECPv6.15.20//NONSGML v1.0//EN
CALSCALE:GREGORIAN
METHOD:PUBLISH
X-WR-CALNAME:Wir 5 im Wienerwald
X-ORIGINAL-URL:https://wir-5-im-wienerwald.at
X-WR-CALDESC:Veranstaltungen für Wir 5 im Wienerwald
REFRESH-INTERVAL;VALUE=DURATION:PT1H
X-Robots-Tag:noindex
X-PUBLISHED-TTL:PT1H
BEGIN:VTIMEZONE
TZID:Europe/Vienna
BEGIN:DAYLIGHT
TZOFFSETFROM:+0100
TZOFFSETTO:+0200
TZNAME:CEST
DTSTART:20220327T010000
END:DAYLIGHT
BEGIN:STANDARD
TZOFFSETFROM:+0200
TZOFFSETTO:+0100
TZNAME:CET
DTSTART:20221030T010000
END:STANDARD
BEGIN:DAYLIGHT
TZOFFSETFROM:+0100
TZOFFSETTO:+0200
TZNAME:CEST
DTSTART:20230326T010000
END:DAYLIGHT
BEGIN:STANDARD
TZOFFSETFROM:+0200
TZOFFSETTO:+0100
TZNAME:CET
DTSTART:20231029T010000
END:STANDARD
BEGIN:DAYLIGHT
TZOFFSETFROM:+0100
TZOFFSETTO:+0200
TZNAME:CEST
DTSTART:20240331T010000
END:DAYLIGHT
BEGIN:STANDARD
TZOFFSETFROM:+0200
TZOFFSETTO:+0100
TZNAME:CET
DTSTART:20241027T010000
END:STANDARD
END:VTIMEZONE
BEGIN:VEVENT
DTSTART;TZID=Europe/Vienna:20231107T140000
DTEND;TZID=Europe/Vienna:20231107T170000
DTSTAMP:20260425T060854
CREATED:20230707T115748Z
LAST-MODIFIED:20230707T115748Z
UID:3534-1699365600-1699376400@wir-5-im-wienerwald.at
SUMMARY:Bunter Nachmittag Pressbaum
DESCRIPTION:Bunter Nachmittag für Menschen\nderen Vergesslichkeit ein Problem ist\nPflegende Angehörige können in diesen Stunden entlastet werden Das Angebot richtet sich nach dem Bedürfnissen\, Neigungen und Möglichkeiten der Gäste. \nGeplant ist natürlich gemeinsames Kaffeetrinken\, Bewegungsübungen\, Gedächtnistraining\, Spiele\, singen und vieles mehr. \nEin Team von einer Fachkraft und ehrenamtlichen Helfer*innen betreut die Gäste liebevoll und kompetent \nAuf Ihr Kommen freuen sich Liselotte Wolf\, Lea Hofer-Wecer (DGKP\, Demenzexpertin) und das Team\nUm telefonische Anmeldung wird gebeten unter 0676/4921600 (Hofer-Wecer) oder 0664 / 2606004 (Wolf)
URL:https://wir-5-im-wienerwald.at/termin/bunter-nachmittag-pressbaum-3/
LOCATION:Café Pension Parzer\, Hauptstraße 96\, Pressbaum\, 3021\, Austria
END:VEVENT
BEGIN:VEVENT
DTSTART;TZID=Europe/Vienna:20231130T183000
DTEND;TZID=Europe/Vienna:20231130T200000
DTSTAMP:20260425T060854
CREATED:20230707T114839Z
LAST-MODIFIED:20230707T114839Z
UID:3523-1701369000-1701374400@wir-5-im-wienerwald.at
SUMMARY:Pflegende Angehörigen Stammtisch Pressbaum
DESCRIPTION:Wenn Vergesslichkeit zum Problem wird…\nWir ermöglichen An- und Zugehörigen von Menschen mit Demenz sich kostenlos auszutauschen\, Kraft zu tanken und Fragen zu stellen.\nWir unterstützen einander! Wir tauschen unsere Erfahrungen aus! Wir erweitern unser Wissen! \nAuf Ihr Kommen freut sich Lea Hofer-Wecer DGKP\, Demenzexpertin\nUm telefonische Anmeldung wird gebeten unter 0676/4921600
URL:https://wir-5-im-wienerwald.at/termin/pflegende-angehoerigen-stammtisch-pressbaum-4/
LOCATION:Café Pension Parzer\, Hauptstraße 96\, Pressbaum\, 3021\, Austria
END:VEVENT
END:VCALENDAR